BEGIN:VCALENDAR
VERSION:2.0
PRODID:-//Elterngeld - ECPv6.15.20//NONSGML v1.0//EN
CALSCALE:GREGORIAN
METHOD:PUBLISH
X-WR-CALNAME:Elterngeld
X-ORIGINAL-URL:https://elterngeldinfo.de
X-WR-CALDESC:Veranstaltungen für Elterngeld
REFRESH-INTERVAL;VALUE=DURATION:PT1H
X-Robots-Tag:noindex
X-PUBLISHED-TTL:PT1H
BEGIN:VTIMEZONE
TZID:Europe/Berlin
BEGIN:DAYLIGHT
TZOFFSETFROM:+0100
TZOFFSETTO:+0200
TZNAME:CEST
DTSTART:20230326T010000
END:DAYLIGHT
BEGIN:STANDARD
TZOFFSETFROM:+0200
TZOFFSETTO:+0100
TZNAME:CET
DTSTART:20231029T010000
END:STANDARD
BEGIN:DAYLIGHT
TZOFFSETFROM:+0100
TZOFFSETTO:+0200
TZNAME:CEST
DTSTART:20240331T010000
END:DAYLIGHT
BEGIN:STANDARD
TZOFFSETFROM:+0200
TZOFFSETTO:+0100
TZNAME:CET
DTSTART:20241027T010000
END:STANDARD
BEGIN:DAYLIGHT
TZOFFSETFROM:+0100
TZOFFSETTO:+0200
TZNAME:CEST
DTSTART:20250330T010000
END:DAYLIGHT
BEGIN:STANDARD
TZOFFSETFROM:+0200
TZOFFSETTO:+0100
TZNAME:CET
DTSTART:20251026T010000
END:STANDARD
END:VTIMEZONE
BEGIN:VEVENT
DTSTART;TZID=Europe/Berlin:20241214T090000
DTEND;TZID=Europe/Berlin:20241214T113300
DTSTAMP:20260422T175449
CREATED:20240820T133932Z
LAST-MODIFIED:20240820T133938Z
UID:1381-1734166800-1734175980@elterngeldinfo.de
SUMMARY:Webinar: Elterngeld\, Kindergeld & Co.
DESCRIPTION:Webinar\nElterngeld\, Kindergeld & Co.: Elterngeld und Elterngeld-Plus. Elternzeit und Kindergeld. Mutterschaftsgeld – alles verständlich erklärt.\n  \nDetails des Vortrags:\nOrt:        Bequem von zu Hause\, Browser-Zugang mit allen Geräten\nKosten:   25€\nDauer:    9 – 11:30 Uhr (abhängig von Teilnehmerfragen) \n  \nBeschreibung des Vortrags:\nElterngeld und Elternzeit\, Kindergeld\, Mutterschaftsgeld – Auf werdende Eltern kommen vor der Geburt eines Kindes viele neue Themen zu. Diese können sehr große finanzielle Auswirkungen haben. Natürlich möchten alle Eltern die maximale Förderung erhalten. Wird sich dabei nur auf jeweils eine der Förderthemen beschränkt ist es wahrscheinlich\, das das gesamte Haushaltseinkommen trotz maximalem Elterngeld wesentlich niedriger liegt. Der Vortrag erklärt ausführlich\, welche allgemein kursierenden Ratschläge zur Optimierung (z.B. Steuerklassenwechsel) genau das Gegenteil des Beabsichtigten bewirken – dem Haushalt fehlt notwendige finanzielle Unterstützung. Um dies zu vermeiden muss der gesamte Prozess der Förderung von Mutterschaftsgeld bis zum Wiedereinstieg in das Berufsleben aufeinander abgestimmt sein. Nur so erreichen Sie die maximale Förderung über das Elterngeld hinaus! Daher erfahren Sie\, wie Sie die alle Förderung wie Elterngeld\, Elternzeit und Mutterschaftsgeld am Besten aufeinander abstimmen! Ihre konkreten Fragen werden beantwortet und Vorschläge zur Verbesserung gegeben. \nDer Vortrag stellt ein „Modell Familienplanung“ vor. Dieses ermöglicht Ihnen die maximalen finanziellen Fördermöglichkeiten. Durch die Fragen anderer Kursteilnehmer erhalten Sie Antworten auf Fragen\, auf die Sie selber noch nicht gestoßen sind. \nAbschließend zum Webinar erhalten Sie ein Infomail mit weiterführenden Informationen. Darin sind die Anträge Elterngeld (für Baden-Württemberg)\, Kindergeld und verschiedene Checklisten\, Informationen zu Sondersituationen und vieles mehr enthalten. Mit der Facebook-Seite Elterngeldinfo können Sie durch ein “Like” auf dem Laufenden bleiben. \nEinen Überblick über mein gesamtes Leistungsspektrum sehen Sie hier: Leistungsspektrum Elterngeldinfo \n  \nAuszug aus dem Inhalt des Vortrags Elterngeld\, Kindergeld & Co.\n– diese Elterngeldarten gibt es\, Vor- und Nachteile\n– Elterngeld-Plus und Teilzeitmöglichkeiten\n– Partnerschaftsbonusmonate und Geschwisterbonus\n– Einfluss der Krankenversicherung und der Familiensituation auf die Wahl der Elterngeldart\n– Steuerklassen und Elterngeld\n– Beamte\, nicht-verheiratete und Ehepaare\, Alleinerziehende\n– Optimierungsmöglichkeiten\n– Mogelpackungen und teure Fehler vermeiden \n  \nNach dem Vortrag:\nDurch den Vortrag erhalten Sie einen guten Überblick über die Zusammenhänge. Dadurch verstehen Sie die optimale Abstimmung von Elterngeld und Elternzeit. Dennoch können komplexe individuelle Situationen besser in einer Beratung geklärt werden. Für individuelle Fragestellungen biete ich an: \nÜberblick Leistungsspektrum\nIndividuelle persönliche Beratung\nAntragsservice Rundum-Sorglos \n  \nWeiterführende Informationen zu Elterngeld\, Kindergeld & Co.\nBeratungsangebot\nIndividuelle persönliche Beratung\nAntragsservice Rundum-Sorglos\nElterngeldstelle\nKindergeldstelle herausfinden \n\nAnträge:\nElterngeldantrag online\nElterngeldantrag PDF\nKindergeldantrag online\nKindergeldantrag pdf
URL:https://elterngeldinfo.de/event/webinar-elterngeld-kindergeld-co-34/
LOCATION:Online Kurs\, bequem von\, zu Hause
CATEGORIES:Esslingen,Göppingen,Ostfildern,Reutlingen,Stuttgart,Tübingen,Webinar
ATTACH;FMTTYPE=image/jpeg:https://elterngeldinfo.de/wp-content/uploads/2019/06/Elterngeld-Kindergeld-Co.-Vortrag.jpg
ORGANIZER;CN="ElternGeldInfo":MAILTO:kontakt(at)elterngeldinfo.de
END:VEVENT
END:VCALENDAR